Workbook

Sheet Preisliste
A1: Schloßallee 24, 13156 Berlin-Pankow · Preisliste 40 Apartments
A3: Kaufpreis pro m² | C3: 6990
A4: Anrechnung Balkon/Terrasse | C4: 0.25
A5: Gelbe Felder änderbar – alle Preise rechnen automatisch neu.
A7: Nr. | B7: Etage | C7: Haus | D7: Typ | E7: Grundriss | F7: Innenfläche | G7: Freisitz | H7: Freisitz-fläche | I7: Angerechnete Freisitzfläche | J7: Gesamtfläche | K7: Kaufpreis
A8: 01 | B8: EG | C8: Vorderhaus | D8: C | E8: Wohnen mit Terrasse | F8: 27.7 | G8: Terrasse | H8: 8 | I8: =H8*$C$4 -> 2 | J8: =F8+I8 -> 29.7 | K8: =J8*$C$3 -> 207603
A9: 02 | B9: EG | C9: Vorderhaus | D9: C | E9: Wohnen mit Terrasse | F9: 35.7 | G9: Terrasse | H9: 8 | I9: =H9*$C$4 -> 2 | J9: =F9+I9 -> 37.7 | K9: =J9*$C$3 -> 263523
A10: 03 | B10: EG | C10: Vorderhaus | D10: C | E10: Wohnen mit Terrasse | F10: 27.7 | G10: Terrasse | H10: 8 | I10: =H10*$C$4 -> 2 | J10: =F10+I10 -> 29.7 | K10: =J10*$C$3 -> 207603
A11: 04 | B11: EG | C11: Vorderhaus | D11: C | E11: Wohnen mit Terrasse | F11: 35.7 | G11: Terrasse | H11: 8 | I11: =H11*$C$4 -> 2 | J11: =F11+I11 -> 37.7 | K11: =J11*$C$3 -> 263523
A12: 05 | B12: EG | C12: Gartenhaus | D12: D | E12: Gartenhaus | F12: 31.6 | G12: Terrasse | H12: 8 | I12: =H12*$C$4 -> 2 | J12: =F12+I12 -> 33.6 | K12: =J12*$C$3 -> 234864
A13: 06 | B13: EG | C13: Gartenhaus | D13: D | E13: Gartenhaus | F13: 34.8 | G13: Terrasse | H13: 8 | I13: =H13*$C$4 -> 2 | J13: =F13+I13 -> 36.8 | K13: =J13*$C$3 -> 257232
A14: 07 | B14: EG | C14: Gartenhaus | D14: D | E14: Gartenhaus | F14: 31.6 | G14: Terrasse | H14: 8 | I14: =H14*$C$4 -> 2 | J14: =F14+I14 -> 33.6 | K14: =J14*$C$3 -> 234864
A15: 08 | B15: EG | C15: Gartenhaus | D15: D | E15: Gartenhaus | F15: 34.8 | G15: Terrasse | H15: 8 | I15: =H15*$C$4 -> 2 | J15: =F15+I15 -> 36.8 | K15: =J15*$C$3 -> 257232
A16: 09 | B16: 1. OG | C16: Vorderhaus | D16: A | E16: Studio | F16: 27.2 | G16: Balkon | H16: 4.8 | I16: =H16*$C$4 -> 1.2 | J16: =F16+I16 -> 28.4 | K16: =J16*$C$3 -> 198516
A17: 10 | B17: 1. OG | C17: Vorderhaus | D17: B | E17: Breite Fensterfront | F17: 27.2 | G17: Balkon | H17: 4.8 | I17: =H17*$C$4 -> 1.2 | J17: =F17+I17 -> 28.4 | K17: =J17*$C$3 -> 198516
A18: 11 | B18: 1. OG | C18: Vorderhaus | D18: A | E18: Studio | F18: 27.2 | G18: Balkon | H18: 4.8 | I18: =H18*$C$4 -> 1.2 | J18: =F18+I18 -> 28.4 | K18: =J18*$C$3 -> 198516
A19: 12 | B19: 1. OG | C19: Vorderhaus | D19: A | E19: Studio | F19: 27.2 | G19: Balkon | H19: 4.8 | I19: =H19*$C$4 -> 1.2 | J19: =F19+I19 -> 28.4 | K19: =J19*$C$3 -> 198516
... A47: 40 | B47: 4. OG | C47: Vorderhaus | D47: A | E47: Studio | F47: 27.2 | G47: Balkon | H47: 4.8 | I47: =H47*$C$4 -> 1.2 | J47: =F47+I47 -> 28.4 | K47: =J47*$C$3 -> 198516
A48: Summe | F48: =SUM(F8:F47) -> 1167.8 | H48: =SUM(H8:H47) -> 217.6 | I48: =SUM(I8:I47) -> 54.4 | J48: =SUM(J8:J47) -> 1222.2 | K48: =SUM(K8:K47) -> 8543178
A49: Durchschnitt pro Einheit | F49: =AVERAGE(F8:F47) -> 29.195 | J49: =AVERAGE(J8:J47) -> 30.555 | K49: =AVERAGE(K8:K47) -> 213579.45
A51: Flächen ca. lt. Exposé / Konzeptplanung 10/2026 (Vorversion), keine Wohnflächenberechnung · Freisitzflächen aus Planangaben abgeleitet · zzgl. 3,57 % Käuferprovision inkl. gesetzl. MwSt. · Zwischenverkauf und Änderungen vorbehalten.

Sheet Übersicht
A1: Übersicht nach Grundrisstyp
A3: Typ | B3: Grundriss | C3: Anzahl | D3: Fläche min | E3: Fläche max | F3: Gesamtfläche | G3: Preis min | H3: Preis max | I3: Kaufpreis gesamt
A4: A | B4: Studio | C4: =COUNTIF(Preisliste!$D$8:$D$47,A4) -> 16 | D4: =_xlfn.MINIFS(Preisliste!$J$8:$J$47,Preisliste!$D$8:$D$47,A4) -> 28.4 | E4: =_xlfn.MAXIFS(Preisliste!$J$8:$J$47,Preisliste!$D$8:$D$47,A4) -> 28.4 | F4: =SUMIF(Preisliste!$D$8:$D$47,A4,Preisliste!$J$8:$J$47) -> 454.4 | G4: =_xlfn.MINIFS(Preisliste!$K$8:$K$47,Preisliste!$D$8:$D$47,A4) -> 198516 | H4: =_xlfn.MAXIFS(Preisliste!$K$8:$K$47,Preisliste!$D$8:$D$47,A4) -> 198516 | I4: =SUMIF(Preisliste!$D$8:$D$47,A4,Preisliste!$K$8:$K$47) -> 3176256
A5: B | B5: Breite Fensterfront | C5: =COUNTIF(Preisliste!$D$8:$D$47,A5) -> 8 | D5: =_xlfn.MINIFS(Preisliste!$J$8:$J$47,Preisliste!$D$8:$D$47,A5) -> 28.4 | E5: =_xlfn.MAXIFS(Preisliste!$J$8:$J$47,Preisliste!$D$8:$D$47,A5) -> 28.4 | F5: =SUMIF(Preisliste!$D$8:$D$47,A5,Preisliste!$J$8:$J$47) -> 227.2 | G5: =_xlfn.MINIFS(Preisliste!$K$8:$K$47,Preisliste!$D$8:$D$47,A5) -> 198516 | H5: =_xlfn.MAXIFS(Preisliste!$K$8:$K$47,Preisliste!$D$8:$D$47,A5) -> 198516 | I5: =SUMIF(Preisliste!$D$8:$D$47,A5,Preisliste!$K$8:$K$47) -> 1588128
A6: C | B6: Wohnen mit Terrasse | C6: =COUNTIF(Preisliste!$D$8:$D$47,A6) -> 4 | D6: =_xlfn.MINIFS(Preisliste!$J$8:$J$47,Preisliste!$D$8:$D$47,A6) -> 29.7 | E6: =_xlfn.MAXIFS(Preisliste!$J$8:$J$47,Preisliste!$D$8:$D$47,A6) -> 37.7 | F6: =SUMIF(Preisliste!$D$8:$D$47,A6,Preisliste!$J$8:$J$47) -> 134.8 | G6: =_xlfn.MINIFS(Preisliste!$K$8:$K$47,Preisliste!$D$8:$D$47,A6) -> 207603 | H6: =_xlfn.MAXIFS(Preisliste!$K$8:$K$47,Preisliste!$D$8:$D$47,A6) -> 263523 | I6: =SUMIF(Preisliste!$D$8:$D$47,A6,Preisliste!$K$8:$K$47) -> 942252
A7: D | B7: Gartenhaus | C7: =COUNTIF(Preisliste!$D$8:$D$47,A7) -> 12 | D7: =_xlfn.MINIFS(Preisliste!$J$8:$J$47,Preisliste!$D$8:$D$47,A7) -> 28.8 | E7: =_xlfn.MAXIFS(Preisliste!$J$8:$J$47,Preisliste!$D$8:$D$47,A7) -> 36.8 | F7: =SUMIF(Preisliste!$D$8:$D$47,A7,Preisliste!$J$8:$J$47) -> 405.8 | G7: =_xlfn.MINIFS(Preisliste!$K$8:$K$47,Preisliste!$D$8:$D$47,A7) -> 201312 | H7: =_xlfn.MAXIFS(Preisliste!$K$8:$K$47,Preisliste!$D$8:$D$47,A7) -> 257232 | I7: =SUMIF(Preisliste!$D$8:$D$47,A7,Preisliste!$K$8:$K$47) -> 2836542
A8: Gesamt | C8: =SUM(C4:C7) -> 40 | F8: =SUM(F4:F7) -> 1222.2 | I8: =SUM(I4:I7) -> 8543178
A10: Gesamtfläche = Innenfläche + Freisitz × Anrechnungsquote (Blatt Preisliste, C4).
